BEGIN:VCALENDAR
VERSION:2.0
PRODID:-//Ninja Bob - ECPv6.15.18//NONSGML v1.0//EN
CALSCALE:GREGORIAN
METHOD:PUBLISH
X-ORIGINAL-URL:https://ninjabobsolutions.com
X-WR-CALDESC:Events for Ninja Bob
REFRESH-INTERVAL;VALUE=DURATION:PT1H
X-Robots-Tag:noindex
X-PUBLISHED-TTL:PT1H
BEGIN:VTIMEZONE
TZID:America/New_York
BEGIN:DAYLIGHT
TZOFFSETFROM:-0500
TZOFFSETTO:-0400
TZNAME:EDT
DTSTART:20240310T070000
END:DAYLIGHT
BEGIN:STANDARD
TZOFFSETFROM:-0400
TZOFFSETTO:-0500
TZNAME:EST
DTSTART:20241103T060000
END:STANDARD
BEGIN:DAYLIGHT
TZOFFSETFROM:-0500
TZOFFSETTO:-0400
TZNAME:EDT
DTSTART:20250309T070000
END:DAYLIGHT
BEGIN:STANDARD
TZOFFSETFROM:-0400
TZOFFSETTO:-0500
TZNAME:EST
DTSTART:20251102T060000
END:STANDARD
BEGIN:DAYLIGHT
TZOFFSETFROM:-0500
TZOFFSETTO:-0400
TZNAME:EDT
DTSTART:20260308T070000
END:DAYLIGHT
BEGIN:STANDARD
TZOFFSETFROM:-0400
TZOFFSETTO:-0500
TZNAME:EST
DTSTART:20261101T060000
END:STANDARD
END:VTIMEZONE
BEGIN:VEVENT
DTSTART;TZID=America/New_York:20250628T090000
DTEND;TZID=America/New_York:20250629T170000
DTSTAMP:20260423T061941
CREATED:20250205T014854Z
LAST-MODIFIED:20250205T014854Z
UID:1413-1751101200-1751216400@ninjabobsolutions.com
SUMMARY:Fundamentals of Pistol Marksmanship II (2 days) - Fowler\, IN
DESCRIPTION:
URL:https://ninjabobsolutions.com/event/fundamentals-of-pistol-marksmanship-ii-2-days-fowler-in/
LOCATION:Briggs Core Dynamics
END:VEVENT
END:VCALENDAR